BEGIN:VCALENDAR
VERSION:2.0
PRODID:-//wp-events-plugin.com//7.2.3.1//EN
BEGIN:VEVENT
UID:104@naofnwa.org
DTSTART;TZID=America/Chicago;VALUE=DATE:20260626
DTEND;TZID=America/Chicago;VALUE=DATE:20260629
DTSTAMP:20260315T054348Z
URL:https://naofnwa.org/events/yellville-2026-beaver-roundup-bru-2026/
SUMMARY:(Yellville) 2026 Beaver Roundup (BRU 2026)
DESCRIPTION:June 26th - 28th\, 2026\nOnline Registration is open https://na
 ofnwa.org/bru/\nDownload a PDF version of the flyer
ATTACH;FMTTYPE=image/jpeg:https://naofnwa.org/wp-content/uploads/2026/03/B
 RU-2026-plain-logo-1.webp
CATEGORIES:Activities
LOCATION:Buffalo Point Campground\, 2261 AR 268\, Yellville\, AR\, 72687\, 
 United States
X-APPLE-STRUCTURED-LOCATION;VALUE=URI;X-ADDRESS=2261 AR 268\, Yellville\, A
 R\, 72687\, United States;X-APPLE-RADIUS=100;X-TITLE=Buffalo Point Campgro
 und:geo:0,0
END:VEVENT
BEGIN:VTIMEZONE
TZID:America/Chicago
X-LIC-LOCATION:America/Chicago
BEGIN:DAYLIGHT
DTSTART:20260308T030000
TZOFFSETFROM:-0600
TZOFFSETTO:-0500
TZNAME:CDT
END:DAYLIGHT
END:VTIMEZONE
END:VCALENDAR