BEGIN:VCALENDAR
VERSION:2.0
PRODID:-//wp-events-plugin.com//7.2.3.1//EN
BEGIN:VEVENT
UID:5@naofnwa.org
DTSTART;TZID=America/Chicago;VALUE=DATE:20240829
DTEND;TZID=America/Chicago;VALUE=DATE:20240902
DTSTAMP:20240903T154929Z
URL:https://naofnwa.org/events/wcna-39-world-convention-narcotics-anonymou
 s-washington-dc/
SUMMARY:WCNA 38: World Convention Narcotics Anonymous - Washington DC
DESCRIPTION:We are happy to announce that we have finalized a site for WCNA
  39. After almost 30 years\, the World Convention will be returning to Was
 hington\, DC\, 29 August – 1 September 2024!\n\nRegistration\, Hotel\, a
 nd other info: https://www.na.org/wcna
ATTACH;FMTTYPE=image/jpeg:https://naofnwa.org/wp-content/uploads/2020/05/W
 CNA-2024.jpg
CATEGORIES:Activities
END:VEVENT
BEGIN:VTIMEZONE
TZID:America/Chicago
X-LIC-LOCATION:America/Chicago
BEGIN:DAYLIGHT
DTSTART:20240310T030000
TZOFFSETFROM:-0600
TZOFFSETTO:-0500
TZNAME:CDT
END:DAYLIGHT
END:VTIMEZONE
END:VCALENDAR