BEGIN:VCALENDAR
VERSION:2.0
PRODID:-//wp-events-plugin.com//7.2.3.1//EN
BEGIN:VEVENT
UID:179@naofnwa.org
DTSTART;TZID=America/Chicago:20260504T213000
DTEND;TZID=America/Chicago:20260504T230000
DTSTAMP:20260408T183154Z
URL:https://naofnwa.org/events/virtual-wsc-unity-day-livestream-na-history
 -presentation-2026/
SUMMARY:(Virtual) WSC Unity Day LIVESTREAM NA History Presentation 2026
DESCRIPTION:WSC Unity Day webinars: https://na.org/naws-events/webinar/ \n
 \n 	May 2nd &amp\; May 9th 2026 at 9:30pm CST: SPEAKER MEETINGS—listen t
 o members from around the world share their experience\, strength\, and ho
 pe from the World Service Conference\n 	May 3rd &amp\; May 4th 2026 at 9:3
 0pm CST: NA HISTORY—NA history presentations by Chris and Boyd from the 
 World Service Conference\n 	\n
ATTACH;FMTTYPE=image/jpeg:https://naofnwa.org/wp-content/uploads/2026/04/W
 SC-Unity-Day-2026.jpg
CATEGORIES:Activities
LOCATION:https://na.org/naws-events/webinar/ 
END:VEVENT
BEGIN:VTIMEZONE
TZID:America/Chicago
X-LIC-LOCATION:America/Chicago
BEGIN:DAYLIGHT
DTSTART:20260308T030000
TZOFFSETFROM:-0600
TZOFFSETTO:-0500
TZNAME:CDT
END:DAYLIGHT
END:VTIMEZONE
END:VCALENDAR