BEGIN:VCALENDAR
VERSION:2.0
PRODID:-//wp-events-plugin.com//7.2.3.1//EN
BEGIN:VEVENT
UID:121@naofnwa.org
DTSTART;TZID=America/Chicago:20260615T173000
DTEND;TZID=America/Chicago:20260615T183000
DTSTAMP:20251222T032746Z
URL:https://naofnwa.org/events/virtual-nwa-bru-2026-planning-meeting-2026-
 06-15/
SUMMARY:(Virtual) NWA BRU 2026 Planning Meeting
DESCRIPTION:Planning for BRU 2026\n\n 	\nNo Clean Time Requirement \n\n 	\
 nGreat way to be of service\n\n
ATTACH;FMTTYPE=image/jpeg:https://naofnwa.org/wp-content/uploads/2025/09/B
 RU-2026-Committee-Meeting.jpg
CATEGORIES:Service Committees
LOCATION:https://us02web.zoom.us/j/8183857229?pwd=VE9KSUhFb0U5LzAwdUc5WGN1L
 0Jzdz09&omn=82602401839
END:VEVENT
BEGIN:VTIMEZONE
TZID:America/Chicago
X-LIC-LOCATION:America/Chicago
BEGIN:DAYLIGHT
DTSTART:20260308T030000
TZOFFSETFROM:-0600
TZOFFSETTO:-0500
TZNAME:CDT
END:DAYLIGHT
END:VTIMEZONE
END:VCALENDAR