BEGIN:VCALENDAR
VERSION:2.0
PRODID:-//wp-events-plugin.com//7.2.3.1//EN
BEGIN:VEVENT
UID:163@naofnwa.org
DTSTART;TZID=America/Chicago:20260622T173000
DTEND;TZID=America/Chicago:20260622T183000
DTSTAMP:20251109T035147Z
URL:https://naofnwa.org/events/virtual-nwa-asc-website-workshop-series-jun
 e-2026/
SUMMARY:(Virtual) NWA ASC Website Workshop Series - June 2026
DESCRIPTION:Here's the link to register. After you do\, you'll get a link s
 ent to your email to join zoom.\nhttps://us02web.zoom.us/meeting/register/
 u2vbk-ySRBGioPBR0cEoGg\nSession Topics will include:\n1. online registrati
 on setup (BRU)\n2. posting updates &amp\; meeting info\n3. managing online
  registration (BRU)\n4. email routing\, security\, and maintenance 
ATTACH;FMTTYPE=image/jpeg:https://naofnwa.org/wp-content/uploads/2025/11/2
 025-2026-NWA-ASC-Website-Workshop-Topics.jpg
CATEGORIES:Service Committees
LOCATION:https://us02web.zoom.us/meeting/register/u2vbk-ySRBGioPBR0cEoGg
END:VEVENT
BEGIN:VTIMEZONE
TZID:America/Chicago
X-LIC-LOCATION:America/Chicago
BEGIN:DAYLIGHT
DTSTART:20260308T030000
TZOFFSETFROM:-0600
TZOFFSETTO:-0500
TZNAME:CDT
END:DAYLIGHT
END:VTIMEZONE
END:VCALENDAR