BEGIN:VCALENDAR
VERSION:2.0
PRODID:-//wp-events-plugin.com//7.2.3.1//EN
BEGIN:VEVENT
UID:165@naofnwa.org
DTSTART;TZID=America/Chicago:20270111T173000
DTEND;TZID=America/Chicago:20270111T183000
DTSTAMP:20251109T035221Z
URL:https://naofnwa.org/events/virtual-nwa-asc-website-workshop-series-jan
 -2027/
SUMMARY:(Virtual) NWA ASC Website Workshop Series - Jan 2027
DESCRIPTION:Here's the link to register. After you do\, you'll get a link s
 ent to your email to join zoom.\nhttps://us02web.zoom.us/meeting/register/
 u2vbk-ySRBGioPBR0cEoGg\nSession Topics will include:\n1. online registrati
 on setup (BRU)\n2. posting updates &amp\; meeting info\n3. managing online
  registration (BRU)\n4. email routing\, security\, and maintenance 
ATTACH;FMTTYPE=image/jpeg:https://naofnwa.org/wp-content/uploads/2025/11/2
 025-2026-NWA-ASC-Website-Workshop-Topics.jpg
CATEGORIES:Service Committees
LOCATION:https://us02web.zoom.us/meeting/register/u2vbk-ySRBGioPBR0cEoGg
END:VEVENT
BEGIN:VTIMEZONE
TZID:America/Chicago
X-LIC-LOCATION:America/Chicago
BEGIN:STANDARD
DTSTART:20261101T010000
TZOFFSETFROM:-0500
TZOFFSETTO:-0600
TZNAME:CST
END:STANDARD
END:VTIMEZONE
END:VCALENDAR