BEGIN:VCALENDAR
VERSION:2.0
PRODID:-//wp-events-plugin.com//7.2.3.1//EN
BEGIN:VEVENT
UID:143@naofnwa.org
DTSTART;TZID=America/Chicago:20260819T183000
DTEND;TZID=America/Chicago:20260819T193000
DTSTAMP:20250915T210912Z
URL:https://naofnwa.org/events/virtual-multi-zonal-service-symposium-2026-
 planning-meeting-mzzsna-2025-09-17-2025-10-15-2025-11-19-2025-12-17-2026-0
 1-21-2026-02-18-2026-03-18-2026-04-15-2026-05-20-2026-06-17-2026-07-15-202
 6-08-19/
SUMMARY:(Virtual) Multi-Zonal Service Symposium 2026 Planning Meeting (MZZS
 NA)
DESCRIPTION:Multi-Zonal Service Symposium - It’s a convention focused on 
 service and topics being discussed worldwide!\nOctober 1-4\, 2026 Wichita\
 , KS\n\nPlanning committee meets the 3rd Wednesday of month at 6:30p. You 
 can join the meeting by clicking on the link on the front page of the webs
 ite https://mzssna.org\n\nSome positions are still open and all committees
  are open. Anyone - yes YOU - can join in for the planning.
ATTACH;FMTTYPE=image/jpeg:https://naofnwa.org/wp-content/uploads/2025/09/M
 ZZSNA-2026-committee-meetings.jpg
CATEGORIES:Service Committees
LOCATION:https://mzssna.org
END:VEVENT
BEGIN:VTIMEZONE
TZID:America/Chicago
X-LIC-LOCATION:America/Chicago
BEGIN:DAYLIGHT
DTSTART:20260308T030000
TZOFFSETFROM:-0600
TZOFFSETTO:-0500
TZNAME:CDT
END:DAYLIGHT
END:VTIMEZONE
END:VCALENDAR