BEGIN:VCALENDAR
VERSION:2.0
PRODID:-//wp-events-plugin.com//7.2.3.1//EN
BEGIN:VEVENT
UID:171@naofnwa.org
DTSTART;TZID=America/Chicago:20260613T170000
DTEND;TZID=America/Chicago:20260613T200000
DTSTAMP:20260310T182212Z
URL:https://naofnwa.org/events/nwa-no-fronts-chili-cookoff-bingo-speaker-2
 026/
SUMMARY:(NWA) No Fronts Chili Cookoff - Bingo - Speaker 2026
DESCRIPTION:Join us for an evening of fellowship\, amazing homemade chili\,
  bingo games\, prizes\, and an inspiring speaker.\n\nBring your friends an
 d your appetite!!\n\nLocation: TBD
ATTACH;FMTTYPE=image/jpeg:https://naofnwa.org/wp-content/uploads/2026/03/N
 o-Fronts-June-2026-Chili-Cookoff.webp
CATEGORIES:Activities
END:VEVENT
BEGIN:VTIMEZONE
TZID:America/Chicago
X-LIC-LOCATION:America/Chicago
BEGIN:DAYLIGHT
DTSTART:20260308T030000
TZOFFSETFROM:-0600
TZOFFSETTO:-0500
TZNAME:CDT
END:DAYLIGHT
END:VTIMEZONE
END:VCALENDAR