BEGIN:VCALENDAR
VERSION:2.0
PRODID:-//wp-events-plugin.com//7.2.3.1//EN
BEGIN:VEVENT
UID:156@naofnwa.org
DTSTART;TZID=America/Chicago;VALUE=DATE:20260424
DTEND;TZID=America/Chicago;VALUE=DATE:20260427
DTSTAMP:20251104T044543Z
URL:https://naofnwa.org/events/mountainburg-arvana-womens-spiritual-retrea
 t-2026/
SUMMARY:(Mountainburg) ARVANA Women's Spiritual Retreat 2026
DESCRIPTION:
ATTACH;FMTTYPE=image/jpeg:https://naofnwa.org/wp-content/uploads/2025/11/2
 026-04-24-ARVANA-womens-spiritual-retreat-1.jpg
CATEGORIES:Activities
LOCATION:Lake Fort Smith State Park\, 15458 Sheperd Springs Rd\, Mountainbu
 rg\, AR\, 72946\, United States
X-APPLE-STRUCTURED-LOCATION;VALUE=URI;X-ADDRESS=15458 Sheperd Springs Rd\, 
 Mountainburg\, AR\, 72946\, United States;X-APPLE-RADIUS=100;X-TITLE=Lake 
 Fort Smith State Park:geo:0,0
END:VEVENT
BEGIN:VTIMEZONE
TZID:America/Chicago
X-LIC-LOCATION:America/Chicago
BEGIN:DAYLIGHT
DTSTART:20260308T030000
TZOFFSETFROM:-0600
TZOFFSETTO:-0500
TZNAME:CDT
END:DAYLIGHT
END:VTIMEZONE
END:VCALENDAR