BEGIN:VCALENDAR
VERSION:2.0
PRODID:-//wp-events-plugin.com//7.2.3.1//EN
BEGIN:VEVENT
UID:174@naofnwa.org
DTSTART;TZID=America/Chicago;VALUE=DATE:20260815
DTEND;TZID=America/Chicago;VALUE=DATE:20260816
DTSTAMP:20260316T145117Z
URL:https://naofnwa.org/events/lowell-livin-cleans-chicken-cook-off-2026/
SUMMARY:(Lowell) Livin Clean's Chicken Cook-Off 2026
DESCRIPTION:SAVE the DATE (still planning - more will be revealed)
ATTACH;FMTTYPE=image/jpeg:https://naofnwa.org/wp-content/uploads/2026/03/2
 026-Livin-Clean-Chicken-Cookoff.jpg
CATEGORIES:Activities
END:VEVENT
BEGIN:VTIMEZONE
TZID:America/Chicago
X-LIC-LOCATION:America/Chicago
BEGIN:DAYLIGHT
DTSTART:20260308T030000
TZOFFSETFROM:-0600
TZOFFSETTO:-0500
TZNAME:CDT
END:DAYLIGHT
END:VTIMEZONE
END:VCALENDAR