BEGIN:VCALENDAR
VERSION:2.0
PRODID:-//wp-events-plugin.com//7.2.3.1//EN
BEGIN:VEVENT
UID:101@naofnwa.org
DTSTART;TZID=America/Chicago;VALUE=DATE:20260502
DTEND;TZID=America/Chicago;VALUE=DATE:20260504
DTSTAMP:20260310T182413Z
URL:https://naofnwa.org/events/hot-springs-arscna-regional-service-committ
 ee-may-2026/
SUMMARY:(Hot Springs) ARSCNA Regional Service Committee May 2026
DESCRIPTION:see flyer for details (click here to download)
ATTACH;FMTTYPE=image/jpeg:https://naofnwa.org/wp-content/uploads/2025/05/a
 rscna-rsc-meeting.jpg
CATEGORIES:Service Committees
END:VEVENT
BEGIN:VTIMEZONE
TZID:America/Chicago
X-LIC-LOCATION:America/Chicago
BEGIN:DAYLIGHT
DTSTART:20260308T030000
TZOFFSETFROM:-0600
TZOFFSETTO:-0500
TZNAME:CDT
END:DAYLIGHT
END:VTIMEZONE
END:VCALENDAR