BEGIN:VCALENDAR
VERSION:2.0
PRODID:-//wp-events-plugin.com//7.2.3.1//EN
BEGIN:VEVENT
UID:176@naofnwa.org
DTSTART;TZID=America/Chicago:20260426T160000
DTEND;TZID=America/Chicago:20260426T170000
DTSTAMP:20260408T181159Z
URL:https://naofnwa.org/events/fayetteville-nwa-asc-hippr-pr-presentation-
 booth-training-april-2026/
SUMMARY:(Fayetteville) NWA ASC HIPPR PR Presentation/Booth Training April 2
 026
DESCRIPTION:Sunday\, April 26th at 4:00pm \nLocation: Natural Grocers (com
 munity room)\nPR Presentation &amp\; PR Booth training\nAd-hoc to discuss 
 future of HIPPR in NWA\n-\nIf you are interested in doing work on any of t
 he below or have NEW ideas please attend. IF you can't make it and want to
  find out how you can help with our different projects\, reach out and I'l
 l get you connected. \n-\n**Not all PR and H&amp\;I service needs prior t
 raining or attendance at subcommittee meetings!! Training is needed for ce
 rtain tasks\, but there's a place for everyone at the HIPPR table!! \n-\n
 \nH&amp\;I - bring meetings into members who can't get out to regular meet
 ings\n\n\n\n\n\n\nPhoneline - answer calls from addicts and the public\nPo
 ster Days - coordinated effort to hang NA poster in the community \nPubli
 c Relations Booths - information booths at community or recovery events\nI
 P Racks - placing Information Pamphlets are designated locations in NA rac
 ks\n\n\n\n\n\n\n
ATTACH;FMTTYPE=image/jpeg:https://naofnwa.org/wp-content/uploads/2025/09/N
 WA-ASC-HIPPR.jpg
CATEGORIES:Service Committees
LOCATION:Natural Grocers Fayetteville\, 4116 N College Ave\, Fayetteville\,
  Arkansas\, 72703\, United States
X-APPLE-STRUCTURED-LOCATION;VALUE=URI;X-ADDRESS=4116 N College Ave\, Fayett
 eville\, Arkansas\, 72703\, United States;X-APPLE-RADIUS=100;X-TITLE=Natur
 al Grocers Fayetteville:geo:0,0
END:VEVENT
BEGIN:VTIMEZONE
TZID:America/Chicago
X-LIC-LOCATION:America/Chicago
BEGIN:DAYLIGHT
DTSTART:20260308T030000
TZOFFSETFROM:-0600
TZOFFSETTO:-0500
TZNAME:CDT
END:DAYLIGHT
END:VTIMEZONE
END:VCALENDAR