BEGIN:VCALENDAR
VERSION:2.0
PRODID:-//wp-events-plugin.com//7.2.3.1//EN
BEGIN:VEVENT
UID:173@naofnwa.org
DTSTART;TZID=America/Chicago:20260606T130000
DTEND;TZID=America/Chicago:20260606T170000
DTSTAMP:20260316T145211Z
URL:https://naofnwa.org/events/fayetteville-new-lifes-annual-speaker-jam-2
 026/
SUMMARY:(Fayetteville) New Life's Annual Speaker Jam 2026
DESCRIPTION:location TBA
ATTACH;FMTTYPE=image/jpeg:https://naofnwa.org/wp-content/uploads/2025/03/2
 025-New-Life-Speaker-Jam.jpg
CATEGORIES:Activities
END:VEVENT
BEGIN:VTIMEZONE
TZID:America/Chicago
X-LIC-LOCATION:America/Chicago
BEGIN:DAYLIGHT
DTSTART:20260308T030000
TZOFFSETFROM:-0600
TZOFFSETTO:-0500
TZNAME:CDT
END:DAYLIGHT
END:VTIMEZONE
END:VCALENDAR