BEGIN:VCALENDAR
VERSION:2.0
PRODID:-//wp-events-plugin.com//7.2.3.1//EN
BEGIN:VEVENT
UID:129@naofnwa.org
DTSTART;TZID=America/Chicago:20260509T133000
DTEND;TZID=America/Chicago:20260509T153000
DTSTAMP:20250915T042908Z
URL:https://naofnwa.org/events/fayetteville-may-2026-nwaana-area-service-c
 ommittee/
SUMMARY:(Fayetteville) May 2026 NWAANA Area Service Committee
DESCRIPTION:1:30pm ASC Meeting at New Life\nMay - nominations open - sent o
 ut to groups requesting nominees to attend July ASC\nJuly - nominated name
 s sent to groups to vote\nSept - vote on nominees at ASC\nNov - those vote
 d in take office\n\n\n 	ASC Chair (2 years)\n 	\nASC Vice Chair (2 years)\
 n\n 	\nASC Treasurer (3 years)\n\n 	\nASC Treasurer-in-Training (2 years)\
 n\n 	\nASC Secretary (1 year)\n\n 	\nHIPPR (2 years)\n\n 	\nActivities Cha
 ir (2 years)\n\n 	\nRCM (3 years)\n\n 	\nRCM Alt (2 years\n\n\n\n** ASC wi
 ll now meet every other month on ODD months only beginning March 2022 ASC
ATTACH;FMTTYPE=image/jpeg:https://naofnwa.org/wp-content/uploads/2024/09/A
 SC-Meeting.png
CATEGORIES:Service Committees
LOCATION:New Life - Fayetteville\, 568 W Sycamore St.\, Fayetteville\, AR\,
  72703\, United States
X-APPLE-STRUCTURED-LOCATION;VALUE=URI;X-ADDRESS=568 W Sycamore St.\, Fayett
 eville\, AR\, 72703\, United States;X-APPLE-RADIUS=100;X-TITLE=New Life - 
 Fayetteville:geo:0,0
END:VEVENT
BEGIN:VTIMEZONE
TZID:America/Chicago
X-LIC-LOCATION:America/Chicago
BEGIN:DAYLIGHT
DTSTART:20260308T030000
TZOFFSETFROM:-0600
TZOFFSETTO:-0500
TZNAME:CDT
END:DAYLIGHT
END:VTIMEZONE
END:VCALENDAR