BEGIN:VCALENDAR
VERSION:2.0
PRODID:-//wp-events-plugin.com//7.2.3.1//EN
BEGIN:VEVENT
UID:175@naofnwa.org
DTSTART;TZID=America/Chicago;VALUE=DATE:20261002
DTEND;TZID=America/Chicago;VALUE=DATE:20261005
DTSTAMP:20260316T144855Z
URL:https://naofnwa.org/events/devils-den-light-my-fire-campout-2026/
SUMMARY:(Devil's Den) Light My Fire Campout 2026
DESCRIPTION:Light My Fire Campout 2026\nOctober 2 - 4\, 2026\nLocation: Dev
 il's Den State Park
ATTACH;FMTTYPE=image/jpeg:https://naofnwa.org/wp-content/uploads/2025/03/L
 ight-My-Fire-2025.jpg
CATEGORIES:Activities
LOCATION:Devils Den State Park\, 120812 W Devils Den Rd\, Winslow\, AR\, 72
 959\, United States
X-APPLE-STRUCTURED-LOCATION;VALUE=URI;X-ADDRESS=120812 W Devils Den Rd\, Wi
 nslow\, AR\, 72959\, United States;X-APPLE-RADIUS=100;X-TITLE=Devils Den S
 tate Park:geo:0,0
END:VEVENT
BEGIN:VTIMEZONE
TZID:America/Chicago
X-LIC-LOCATION:America/Chicago
BEGIN:DAYLIGHT
DTSTART:20260308T030000
TZOFFSETFROM:-0600
TZOFFSETTO:-0500
TZNAME:CDT
END:DAYLIGHT
END:VTIMEZONE
END:VCALENDAR