BEGIN:VCALENDAR
VERSION:2.0
PRODID:-//wp-events-plugin.com//7.2.3.1//EN
BEGIN:VEVENT
UID:57@naofnwa.org
DTSTART;TZID=America/Chicago:20261009T200000
DTEND;TZID=America/Chicago:20261009T000000
DTSTAMP:20250104T184134Z
URL:https://naofnwa.org/events/bentonville-new-beginnings-game-night-no-me
 eting-2026-10-09/
SUMMARY:(Bentonville) New Beginnings Game Night (no meeting)
DESCRIPTION:New Beginnings: 2nd Friday of the month meets between 8:00p - w
 henever to have snacks and games
ATTACH;FMTTYPE=image/jpeg:https://naofnwa.org/wp-content/uploads/2024/09/N
 ew-Beginnings-Game-Night.png
CATEGORIES:Activities
LOCATION:New Beginnings-Flagstone\, 3801 SW Eden Brooke St.\, Bentonville\,
  AR\, 72712\, United States
X-APPLE-STRUCTURED-LOCATION;VALUE=URI;X-ADDRESS=3801 SW Eden Brooke St.\, B
 entonville\, AR\, 72712\, United States;X-APPLE-RADIUS=100;X-TITLE=New Beg
 innings-Flagstone:geo:0,0
END:VEVENT
BEGIN:VTIMEZONE
TZID:America/Chicago
X-LIC-LOCATION:America/Chicago
BEGIN:DAYLIGHT
DTSTART:20260308T030000
TZOFFSETFROM:-0600
TZOFFSETTO:-0500
TZNAME:CDT
END:DAYLIGHT
END:VTIMEZONE
END:VCALENDAR