BEGIN:VCALENDAR
VERSION:2.0
PRODID:-//wp-events-plugin.com//7.2.3.1//EN
BEGIN:VEVENT
UID:6@naofnwa.org
DTSTART;TZID=America/New_York:20240901T113000
DTEND;TZID=America/New_York:20240901T133000
DTSTAMP:20240811T015426Z
URL:https://naofnwa.org/events/2024-wcna-unity-day-event-livestreamed/
SUMMARY:2024 WCNA Unity Day Event (livestreamed)
DESCRIPTION:UNITY DAY CELEBRATION will take place on Sunday 1 September at 
 11:30 EDT\, during the closing meeting of WCNA 38. All of the main meeting
 s at WCNA will be audio streamed.\n\nLinks to join the Unity Day meeting v
 ia video connection are also available to correctional facilities and inst
 itutions worldwide.
ATTACH;FMTTYPE=image/jpeg:https://naofnwa.org/wp-content/uploads/2024/07/2
 024-NA-World-Unity-Day.png
CATEGORIES:Activities
END:VEVENT
BEGIN:VTIMEZONE
TZID:America/New_York
X-LIC-LOCATION:America/New_York
BEGIN:DAYLIGHT
DTSTART:20240310T030000
TZOFFSETFROM:-0500
TZOFFSETTO:-0400
TZNAME:EDT
END:DAYLIGHT
END:VTIMEZONE
END:VCALENDAR