BEGIN:VCALENDAR
VERSION:2.0
PRODID:-//Eventin//Event Calendar//EN
CALSCALE:GREGORIAN
METHOD:PUBLISH
BEGIN:VEVENT
UID:c8c09402c396e2e372112b275f7e1250@naofnwa.org
SUMMARY:BRU 2026 Day Registration (no shirt)
DESCRIPTION:$15 – DAY REGISTRATION (no shirt)\n \n$35 – BEFORE 6/1/26 
 – shirt size is guaranteed (includes one tshirt*)\n \n$45 – AFTER 6/1/2
 6 – shirt size is not guaranteed (includes one tshirt*)\n \n*Solid Color 
 Shirts: Limited Stock Available (pre-registration recommended)\n \nFee Incl
 udes Sat. night Meal\, T-shirt\, & Other Costs (no additional fees for camp
 ing required)\n \nADDITIONAL SHIRTS $25\n \nNo Charge for Kids (no shirt)
LOCATION:Online
DTSTAMP:20260423T152601Z
DTSTART:20260626T200000Z
DTEND:20260628T170000Z
END:VEVENT
END:VCALENDAR
