BEGIN:VCALENDAR
VERSION:2.0
PRODID:-//Eventin//Event Calendar//EN
CALSCALE:GREGORIAN
METHOD:PUBLISH
BEGIN:VEVENT
UID:d1577e803ff1ea6859383b9f97db8980@naofnwa.org
SUMMARY:Beaver Roundup 2026 (Solid Color Shirt option) $35 Pre-Registration
  $45 AFTER 6/1/26 – shirt size is not guaranteed (includes one tshirt*)
DESCRIPTION:$15 – DAY REGISTRATION (no shirt)\n \n$35 – BEFORE 6/1/26 
 – shirt size is guaranteed (includes one tshirt*)\n \n$45 – AFTER 6/1/2
 6 – shirt size is not guaranteed (includes one tshirt*)\n \n*Solid Color 
 Shirts: Limited Stock Available (pre-registration recommended)\n \nFee Incl
 udes Sat. night Meal\, T-shirt\, & Other Costs (no additional fees for camp
 ing required)\n \nADDITIONAL SHIRTS $25\n \nNo Charge for Kids (no shirt)
LOCATION:Online
DTSTAMP:20260423T152815Z
DTSTART:20260626T200000Z
DTEND:20260628T170000Z
END:VEVENT
END:VCALENDAR
