BEGIN:VCALENDAR
VERSION:2.0
PRODID:-//Eventin//Event Calendar//EN
CALSCALE:GREGORIAN
METHOD:PUBLISH
BEGIN:VEVENT
UID:f36c2d0c3978643fd24a0cec8afa62ad@naofnwa.org
SUMMARY:BRU 2026 Hardship / Newcomer Contribution
DESCRIPTION:
LOCATION:Online
DTSTAMP:20260423T152815Z
DTSTART:20260626T200000Z
DTEND:20260628T170000Z
END:VEVENT
END:VCALENDAR
